BEGIN:VCALENDAR
VERSION:2.0
PRODID:-//Rise Leadership - ECPv6.15.15//NONSGML v1.0//EN
CALSCALE:GREGORIAN
METHOD:PUBLISH
X-WR-CALNAME:Rise Leadership
X-ORIGINAL-URL:https://riselg.com
X-WR-CALDESC:Events for Rise Leadership
REFRESH-INTERVAL;VALUE=DURATION:PT1H
X-Robots-Tag:noindex
X-PUBLISHED-TTL:PT1H
BEGIN:VTIMEZONE
TZID:America/Denver
BEGIN:DAYLIGHT
TZOFFSETFROM:-0700
TZOFFSETTO:-0600
TZNAME:MDT
DTSTART:20210314T090000
END:DAYLIGHT
BEGIN:STANDARD
TZOFFSETFROM:-0600
TZOFFSETTO:-0700
TZNAME:MST
DTSTART:20211107T080000
END:STANDARD
BEGIN:DAYLIGHT
TZOFFSETFROM:-0700
TZOFFSETTO:-0600
TZNAME:MDT
DTSTART:20220313T090000
END:DAYLIGHT
BEGIN:STANDARD
TZOFFSETFROM:-0600
TZOFFSETTO:-0700
TZNAME:MST
DTSTART:20221106T080000
END:STANDARD
BEGIN:DAYLIGHT
TZOFFSETFROM:-0700
TZOFFSETTO:-0600
TZNAME:MDT
DTSTART:20230312T090000
END:DAYLIGHT
BEGIN:STANDARD
TZOFFSETFROM:-0600
TZOFFSETTO:-0700
TZNAME:MST
DTSTART:20231105T080000
END:STANDARD
END:VTIMEZONE
BEGIN:VEVENT
DTSTART;TZID=America/Denver:20220709T120000
DTEND;TZID=America/Denver:20220709T163000
DTSTAMP:20260424T075623
CREATED:20220703T202751Z
LAST-MODIFIED:20220706T234221Z
UID:244041-1657368000-1657384200@riselg.com
SUMMARY:Advanced Awakening Innovations
DESCRIPTION:A Deeper Exploration of The Art &amp; Science of the Miracle \nJuly 9: 12 Noon – 4:30 p.m. \nIncludes a demo Breakthrough after the guests leave \n• When Gary Dies… Who will facilitate the Awakening? The journey to\nanswer this question will be the most educational\, insightful and valuable\njourney of one’s life. \n• What keys created the most powerful Breakthroughs in Awakening’s\nhistory? \n• What is the personal value of knowing the art and science that creates the\nmiracle? \n• How has being a Breakthrough Leader grown their lives? \n• How does memory of one’s Awakening serve people subconsciously? \n• What are the advantages of children experiencing the Awakening and\nwhat’s the optimal time frames to do so? \n• What is the role spirituality has played in the Awakening? \n• What is the most advanced info on the creation of “space;” the “11 herbs\nand spices” of the Awakening?
URL:https://riselg.com/event/advanced-awakening-innovations/
LOCATION:Rise Leadership Group – 9192 South 300 West Suite #10\, 9192 S 300 W Suite 10\, Sandy\, UT\, 84070\, United States
ATTACH;FMTTYPE=image/jpeg:https://riselg.com/wp-content/uploads/2022/06/shutterstock_1185191170-scaled.jpg
ORGANIZER;CN="Rise Leadership Group":MAILTO:gary@riselg.com
END:VEVENT
END:VCALENDAR