BEGIN:VCALENDAR
VERSION:2.0
PRODID:-//Rise Leadership - ECPv6.15.15//NONSGML v1.0//EN
CALSCALE:GREGORIAN
METHOD:PUBLISH
X-WR-CALNAME:Rise Leadership
X-ORIGINAL-URL:https://riselg.com
X-WR-CALDESC:Events for Rise Leadership
REFRESH-INTERVAL;VALUE=DURATION:PT1H
X-Robots-Tag:noindex
X-PUBLISHED-TTL:PT1H
BEGIN:VTIMEZONE
TZID:America/Denver
BEGIN:DAYLIGHT
TZOFFSETFROM:-0700
TZOFFSETTO:-0600
TZNAME:MDT
DTSTART:20250309T090000
END:DAYLIGHT
BEGIN:STANDARD
TZOFFSETFROM:-0600
TZOFFSETTO:-0700
TZNAME:MST
DTSTART:20251102T080000
END:STANDARD
BEGIN:DAYLIGHT
TZOFFSETFROM:-0700
TZOFFSETTO:-0600
TZNAME:MDT
DTSTART:20260308T090000
END:DAYLIGHT
BEGIN:STANDARD
TZOFFSETFROM:-0600
TZOFFSETTO:-0700
TZNAME:MST
DTSTART:20261101T080000
END:STANDARD
BEGIN:DAYLIGHT
TZOFFSETFROM:-0700
TZOFFSETTO:-0600
TZNAME:MDT
DTSTART:20270314T090000
END:DAYLIGHT
BEGIN:STANDARD
TZOFFSETFROM:-0600
TZOFFSETTO:-0700
TZNAME:MST
DTSTART:20271107T080000
END:STANDARD
END:VTIMEZONE
BEGIN:VEVENT
DTSTART;TZID=America/Denver:20260206T181500
DTEND;TZID=America/Denver:20260207T200000
DTSTAMP:20260423T173903
CREATED:20260117T204136Z
LAST-MODIFIED:20260117T204847Z
UID:246615-1770401700-1770494400@riselg.com
SUMMARY:Success In All Relationships 1.5 Day
DESCRIPTION:Communications to Catapult Your Love Life & Success \n\n\n\n\n\n\n\n\n\n\n\nRelationship 1.5 Day Ticket\n\n\n					$97.00\n				\n\n\n	\n	\n		\n\n\n        \n                    \n\n            Name *\n            \n                \n            \n\n            Full Name\n            \n        \n                        \n                \n\n            Phone *\n            \n                \n\n            \n\n            Phone Number\n            \n        \n                        \n                \n\n            Email *\n            \n                            \n\n            Customer Email\n            \n        \n        \n\n    \n        \n            Product total\n            \n        \n        \n            Options total\n            \n        \n        \n            Grand total\n            \n        \n    \n\n		\n		Relationship 1.5 Day Ticket quantity\n	\n	\n\n		Add to cart\n\n			\n\n	\n\n\n\n\n\n				SKU:\n				244549-6-1.5-RELATIONSHIPS-SINGLE\n				\n			\n\nCategory: Uncategorized
URL:https://riselg.com/event/success-in-all-relationships-1-5-day/
LOCATION:Rise Leadership Group – 9192 South 300 West Suite #10\, 9192 S 300 W Suite 10\, Sandy\, UT\, 84070\, United States
END:VEVENT
BEGIN:VEVENT
DTSTART;TZID=America/Denver:20260219T181500
DTEND;TZID=America/Denver:20260221T200000
DTSTAMP:20260423T173903
CREATED:20260210T185817Z
LAST-MODIFIED:20260211T192817Z
UID:246693-1771524900-1771704000@riselg.com
SUMMARY:Success in ALL Relationships
DESCRIPTION:Communications to Catapult Your Love Life &amp; SuccessDates\, Times and Location: In the SLC Area□ Thursday\, Feb 19th: 6:15 PM – 10:30 PM MST (Intro Free Guest Event)□ Friday\, Feb. 20th: 1:00 PM – 8:00 PM MST (No Lunch – Several Breaks)□ Saturday\, Feb. 21st: 9:30 AM – 8:00 PM MST (Lunch – In house – Pay or bringyour own)LOCATION: Rise Leadership Group – 9192 S 300 W Suite 10 (Upstairs) Sandy UTCost: $495 – RetailSPECIAL OFFER□ $147 New Attendees Use code: INTRO147□ $247 Single Attendee□ $297 Couple□ $347 Family (Group) (Unlimited People / You can split the cost) Call for Group Code if more than 5□ You must register on our website riselg.com to get a Pre-CoursePacket (Please fill out before the class.)For Reservations or Info call:  \n\n\n\n\n\n\n\n\n\n\n\n\n					$247.00\n				\n\n\n				Couples Price Applied at checkout or in cart after adding 2. \n\n			\n\n\n	\n	\n		\n\n\n        \n                    \n\n            Name *\n            \n                \n            \n\n            Full Name\n            \n        \n                        \n                \n\n            Phone *\n            \n                \n\n            \n\n            Phone Number\n            \n        \n                        \n                \n\n            Email *\n            \n                            \n\n            Customer Email\n            \n        \n        \n\n    \n        \n            Product total\n            \n        \n        \n            Options total\n            \n        \n        \n            Grand total\n            \n        \n    \n\n		\n		FebRelationships quantity\n	\n	\n\n		Add to cart\n\n			\n\n	\n\n\n\n\n\n				SKU:\n				244424-6-FEB-RELATIONSHIPS-SINGLE\n				\n			\n\nCategory: Uncategorized
URL:https://riselg.com/event/success-in-all-relationships-4/
LOCATION:Rise Leadership Group – 9192 South 300 West Suite #10\, 9192 S 300 W Suite 10\, Sandy\, UT\, 84070\, United States
END:VEVENT
BEGIN:VEVENT
DTSTART;TZID=America/Denver:20260319T181500
DTEND;TZID=America/Denver:20260321T193000
DTSTAMP:20260423T173903
CREATED:20230301T174348Z
LAST-MODIFIED:20260225T163931Z
UID:244535-1773944100-1774121400@riselg.com
SUMMARY:Empowerment Dialogue / Gestalt Dream Work
DESCRIPTION:A Breakthrough in Resolving Inner Conflicts; An inspired tool for\nCoaches\, Therapists\, Healers\, and ANY practitioner of the healing arts.\nA unique revolutionary healing dialogue process designed to . . .\n• Resolve ANY inner conflict!\n• Never make a bad decision again! Make those BIG decisions being resolved\,\ncomplete\, at peace.\n• Disappear ANY upset and transform obstacles into personal power and forward\nmovement.\n• Reprogram non-working\, ineffective or self-defeating behaviors\n• Create new behavior patterns\, which determine your results.\n• Ignite wholehearted passion for playing all out\n• Gestalt Dream Work: Our Dreams are the most spontaneous part of ourselves. Our\ndreams never lie. Learn how to do a breakthrough process using Dream work. \n\n\n\n\n\n\n\n\n\n\n\nEmpowerment Dialogue Ticket\n\n\n\n\n					$997.00\n				\n\n\n\n\n	\n	\n		\n\n\n        \n                    \n\n            Name *\n            \n                \n            \n\n            Full Name\n            \n        \n                        \n                \n\n            Phone *\n            \n                \n\n            \n\n            Phone Number\n            \n        \n                        \n                \n\n            Email *\n            \n                            \n\n            Customer Email\n            \n        \n        \n\n    \n        \n            Product total\n            \n        \n        \n            Options total\n            \n        \n        \n            Grand total\n            \n        \n    \n\n      \n        \n          \n            \n              \n              Pay Deposit\n            \n            \n              Pay a deposit of                $250.00              \n            \n          \n          \n            \n            Pay full amount\n          \n        \n      \n      \n		\n		Empowerment Dialogue Ticket quantity\n	\n	\n\n		Add to cart\n\n			\n\n	\n\n\n\n\n\n				SKU:\n				244536-6-EMPOWERMENT-DIALOGUE-SINGLE-ATTENDEE-\n				\n			\n\nCategory: Uncategorized
URL:https://riselg.com/event/empowerment-dialogue-gestalt-dream-work/
LOCATION:Rise Leadership Group – 9192 South 300 West Suite #10\, 9192 S 300 W Suite 10\, Sandy\, UT\, 84070\, United States
ATTACH;FMTTYPE=image/webp:https://riselg.com/wp-content/uploads/2023/03/psychological-problems-inner-child-inner-parent-inner-world-suffering-childhood-psychological-problems-man-225121627.webp
ORGANIZER;CN="Rise Leadership Group":MAILTO:gary@riselg.com
END:VEVENT
BEGIN:VEVENT
DTSTART;TZID=America/Denver:20260415T181500
DTEND;TZID=America/Denver:20260418T200000
DTSTAMP:20260423T173903
CREATED:20230304T060923Z
LAST-MODIFIED:20260322T193215Z
UID:244548-1776276900-1776542400@riselg.com
SUMMARY:Success in All Relationships April
DESCRIPTION:Communications to Catapult Your Love Life SuccessDates\, Times and Location: In the SLC Area \n\n Wednesday April 15th: 6:15 PM – 10:30 PM MST (Intro Free Guest Event)\n Thursday\, April 16th: 6:30 PM – 10:30 PM MST\n Friday\, April 17th: 1:00 PM – 8:00 PM MST (No Lunch – Several Breaks)\n Saturday\, April 18th: 10:00 AM – 8:00 PM MST (Lunch – In house – Pay or bring your own)\nLOCATION: Rise Leadership Group – 9192 S 300 W Suite 10 (Upstairs) Sandy UT\n\n\n\nCost Retail $495\n\n\n\n*SPECIAL $247* \n$147 for NEW Attendees Use code: INTRO147\n$297ea. With Purchase of 2 Tickets\n$347 Total for Family (Group) 3-10 (Group can split fees)\n\nYou must register on our website riseleadershipgroup.com to get a Pre-CoursePacket (Please fill out before the class.)For Reservations or Info call: Rise (801) 414-7020 \n\n\n\n\n\n\n\n\nApril Relationships Ticket\n\n\n\n\n					$247.00\n				\n\n\n\n\n	\n	\n		\n\n\n        \n                    \n\n            Name *\n            \n                \n            \n\n            Full Name\n            \n        \n                        \n                \n\n            Phone *\n            \n                \n\n            \n\n            Phone Number\n            \n        \n                        \n                \n\n            Email *\n            \n                            \n\n            Customer Email\n            \n        \n        \n\n    \n        \n            Product total\n            \n        \n        \n            Options total\n            \n        \n        \n            Grand total\n            \n        \n    \n\n		\n		April Relationships Ticket quantity\n	\n	\n\n		Add to cart\n\n			\n\n	\n\n\n\n\n\n				SKU:\n				244549-6-APRIL-RELATIONSHIPS-SINGLE\n				\n			\n\nCategory: Uncategorized
URL:https://riselg.com/event/success-in-all-relationships-april/
LOCATION:Rise Leadership Group – 9192 South 300 West Suite #10\, 9192 S 300 W Suite 10\, Sandy\, UT\, 84070\, United States
ATTACH;FMTTYPE=image/webp:https://riselg.com/wp-content/uploads/2023/03/1_R-7NixH_M65EfaG_gnUitw-e1706821018687.webp
END:VEVENT
END:VCALENDAR