BEGIN:VCALENDAR
VERSION:2.0
PRODID:-//Rise Leadership - ECPv6.15.15//NONSGML v1.0//EN
CALSCALE:GREGORIAN
METHOD:PUBLISH
X-WR-CALNAME:Rise Leadership
X-ORIGINAL-URL:https://riselg.com
X-WR-CALDESC:Events for Rise Leadership
REFRESH-INTERVAL;VALUE=DURATION:PT1H
X-Robots-Tag:noindex
X-PUBLISHED-TTL:PT1H
BEGIN:VTIMEZONE
TZID:America/Denver
BEGIN:DAYLIGHT
TZOFFSETFROM:-0700
TZOFFSETTO:-0600
TZNAME:MDT
DTSTART:20220313T090000
END:DAYLIGHT
BEGIN:STANDARD
TZOFFSETFROM:-0600
TZOFFSETTO:-0700
TZNAME:MST
DTSTART:20221106T080000
END:STANDARD
BEGIN:DAYLIGHT
TZOFFSETFROM:-0700
TZOFFSETTO:-0600
TZNAME:MDT
DTSTART:20230312T090000
END:DAYLIGHT
BEGIN:STANDARD
TZOFFSETFROM:-0600
TZOFFSETTO:-0700
TZNAME:MST
DTSTART:20231105T080000
END:STANDARD
BEGIN:DAYLIGHT
TZOFFSETFROM:-0700
TZOFFSETTO:-0600
TZNAME:MDT
DTSTART:20240310T090000
END:DAYLIGHT
BEGIN:STANDARD
TZOFFSETFROM:-0600
TZOFFSETTO:-0700
TZNAME:MST
DTSTART:20241103T080000
END:STANDARD
END:VTIMEZONE
BEGIN:VEVENT
DTSTART;TZID=America/Denver:20230811T180000
DTEND;TZID=America/Denver:20230816T200000
DTSTAMP:20260423T174956
CREATED:20220703T211714Z
LAST-MODIFIED:20230706T151322Z
UID:244052-1691776800-1692216000@riselg.com
SUMMARY:The BEST Awakening Ever
DESCRIPTION:Phase I: PREP phase ANY COURSE: Is integral and will catapult your Awakening experience. \nPhase I: AUGUST 11-16\, 2023 $4497.00 (Economy -Including Lodging\, Meals & Professionals) \nPhase II: SEPTEMBER 20-24\, 2023 $4997.00 (Economy-Including Lodging\, Meals& Professionals) \nRequired Support Meetings: (Included in the price) \nAUGUST 26th (9:15am-7pm) All Day \nAUGUST 24th & SEPTEMBER 7th & 14th (6:30 pm-10:30 pm) Evenings \nSEPTEMBER 30 (12:00 Noon – 6 pm) \nLocation: The Rise Center & a Lodge to be determined \nNEW PEOPLE: ENROLL IN PHASE I & II AND SAVE $2000 \nEconomy: $7495.00 – Will share a bed- Will share a room with several others. \nStandard: $7995.00 – Your own bed- Will share a room with others. \nLuxury: $8449.00 – 2 More Seminars (Up to $1500 VALUE) Master Keys & 30 Days to Peak Performance) \nVIP: $8\,995.00 – 3 follow up Private Sessions with Top Coach 3 More Seminars (Up to $1800 VALUE) Master Keys\, 30 Days to Peak Performance & Manifesting Money. \nVIP Plus $11\,995.00 – VIP & Up to 9 follow-up Private coaching sessions with top coach. \nDeep Shift: $15\,497.00 – VIP & Movement to Mastery & Up to 9 Follow up Private Sessions with Top Coach. \nUltimate: $19\,997.00 All other Rise Courses & 12 Private Sessions with Top Coach. \nNormal Reviewers* & Child 9-11: $4\,995.00 (economy) Kids: 12-15 $5995.00 ( Contact Us for Code to Register ) \nA $500.00 NON-REFUNDABLE* (see below) NON-TRANSFERABLE deposit is required to register.\nPayment in full must be received 14 Days in advance to reserve your place.\n(After this you join the waiting list – and must pay with cashier check or money order).\nFor Reservations or info call Rise (801) 414-7020\nFor a schedule of events visit us@pxy.tzg.mybluehost.me\n9192 South 300 West Suite 10\, UT 84070 • www.riseleadershipgroup.com • (801) 414-7020 • (903) 949-4178 \n 
URL:https://riselg.com/event/the-best-awakening-ever/
LOCATION:Rise Leadership Group – 9192 South 300 West Suite #10\, 9192 S 300 W Suite 10\, Sandy\, UT\, 84070\, United States
CATEGORIES:Awakening
ATTACH;FMTTYPE=image/jpeg:https://riselg.com/wp-content/uploads/2022/05/RISE-Leadership1-scaled.jpg
END:VEVENT
END:VCALENDAR