BEGIN:VCALENDAR
VERSION:2.0
PRODID:-//Rise Leadership - ECPv6.15.15//NONSGML v1.0//EN
CALSCALE:GREGORIAN
METHOD:PUBLISH
X-ORIGINAL-URL:https://riselg.com
X-WR-CALDESC:Events for Rise Leadership
REFRESH-INTERVAL;VALUE=DURATION:PT1H
X-Robots-Tag:noindex
X-PUBLISHED-TTL:PT1H
BEGIN:VTIMEZONE
TZID:America/Denver
BEGIN:DAYLIGHT
TZOFFSETFROM:-0700
TZOFFSETTO:-0600
TZNAME:MDT
DTSTART:20250309T090000
END:DAYLIGHT
BEGIN:STANDARD
TZOFFSETFROM:-0600
TZOFFSETTO:-0700
TZNAME:MST
DTSTART:20251102T080000
END:STANDARD
BEGIN:DAYLIGHT
TZOFFSETFROM:-0700
TZOFFSETTO:-0600
TZNAME:MDT
DTSTART:20260308T090000
END:DAYLIGHT
BEGIN:STANDARD
TZOFFSETFROM:-0600
TZOFFSETTO:-0700
TZNAME:MST
DTSTART:20261101T080000
END:STANDARD
BEGIN:DAYLIGHT
TZOFFSETFROM:-0700
TZOFFSETTO:-0600
TZNAME:MDT
DTSTART:20270314T090000
END:DAYLIGHT
BEGIN:STANDARD
TZOFFSETFROM:-0600
TZOFFSETTO:-0700
TZNAME:MST
DTSTART:20271107T080000
END:STANDARD
END:VTIMEZONE
BEGIN:VEVENT
DTSTART;TZID=America/Denver:20260129T181500
DTEND;TZID=America/Denver:20260131T200000
DTSTAMP:20260423T171219
CREATED:20240108T172326Z
LAST-MODIFIED:20260130T161528Z
UID:244349-1769710500-1769889600@riselg.com
SUMMARY:The Master Keys to Assure Your Success! 1/29/2026
DESCRIPTION:A Revolutionary “No Exits” Game for Unprecedented Success! \nBlast Off Weekend Jan. 29th\, 30th\, 31st & Feb. 12th \n1 Dream – A Conscious Plan – Powerful Processes to Move Barriers AsideEnergy always follows structure. Without a solid structure for your goals\, dreams andvisions\, the energy just spins and spins and goes nowhere. Over the last 40 plus yearswe have learned the structure that can assure one’s success.1. Conscious Plan: Once you know the goal or dream\, a group of key players can assist you in comingup with the BEST STRATEGIES\, a plan that will bring your dreams into being. Everyone can agree –you do those steps – you’ll get your goal! This is not the hard part!2. NO Exits Game – Support System: Success quite simply is doing what works! But knowingwhat you need to do is NOT the same as doing it! The best of us will consciously or unconsciouslysabotage our plan. Round after round\, year after year\, without a solid sustainable support structure\, wesimply will avoid doing what works … forever. Energy follows structure! Without an effectivestructure – your energy spins out and goes nowhere. It is possible to create a support system\, astructure that will support people to work their plan and do what works! You will find yourself workingyour plan despite your fears\, barriers or previous defeats. Success is doing what works!3. Process Barriers / Inner work sessions: If you support people to do what works\, it willautomatically bring to the surface those “emotional black holes” which have stopped them to date. Thisis where various potent processes can transform “Red Lights” into “Green Lights\,” moving the barriersaside\, and continuously moving forward to manifest the vision. Layer after layer\, we release the barriersto doing what works. Applying these potent keys can literally assure your success! \nDates & Times: MSTWednesday Jan. 29th 6:15 p.m. – 10:30 p.m. (Intro Free Guest Event)Thursday Jan. 30th 1:00 p.m. – 8:00 p.m.Friday     Jan. 31st 9:30 a.m. – 8:00 p.m.Saturday Feb. 12th 6:30 a.m. – 10:30 p.m. (REQUIRED Post Meeting) \nRetail: $995.00  Special Offer – First  Timers $147 Use Code : INTRO147SPECIAL GROUP OFFER: for NEW: $147 Use code: INTRO147 / Single: $595 / Couple: $547 / Family Any 3 + $397 (Unlimited Group can split the fees)     \nThis Course introduces the Movement into Mastery Program and “The Awakening” Retreat.For Reservations or Info call:  Lynette (801) 710-1116 (Best to Text) or Rise (801) 414-7020 \n\n\n\n\n\n\n\n\n\n\n\n\n\n\n\n\n\n\n\n\n\n\n\n\nJanuary MK\n\n\n\n\n					$995.00 Original price was: $995.00.$595.00Current price is: $595.00.\n				\n\n\n\n\n	\n	\n		\n\n\n        \n                    \n\n            Name *\n            \n                \n            \n\n            Full Name of Attendee\n            \n        \n                        \n                \n\n            Phone *\n            \n                \n\n            \n\n            Phone Number of Attendee\n            \n        \n                        \n                \n\n            Email *\n            \n                            \n\n            Email of Attendee\n            \n        \n        \n\n\n\n        \n                    \n\n            Name *\n            \n                \n            \n\n            Full Name\n            \n        \n                        \n                \n\n            Phone *\n            \n                \n\n            \n\n            Phone Number\n            \n        \n                        \n                \n\n            Email *\n            \n                            \n\n            Customer Email\n            \n        \n        \n\n    \n        \n            Product total\n            \n        \n        \n            Options total\n            \n        \n        \n            Grand total\n            \n        \n    \n\n      \n        \n          \n            \n              \n              Pay Deposit\n            \n            \n              Pay a deposit of                $500.00              \n            \n          \n          \n            \n            Pay full amount\n          \n        \n      \n      \n		\n		January MK quantity\n	\n	\n\n		Add to cart\n\n			\n\n	\n\n\n\n\n\n				SKU:\n				244350-14-January-MK-1-1\n				\n			\n\nCategory: TICKET\n\n\n\n\n\n\n\n\n\n\n\n\n\n<div class="wp-block-tribe-tickets">\n<div class="wp-block-tribe-tickets-item"></div>\n<div class="wp-block-tribe-tickets-item"></div>\n<div class="wp-block-tribe-tickets-item"></div>\n<div class="wp-block-tribe-tickets-item"></div>\n</div>
URL:https://riselg.com/event/the-master-keys-to-assure-your-success-1-25-24-1-28-24/
LOCATION:Rise Leadership Group – 9192 South 300 West Suite #10\, 9192 S 300 W Suite 10\, Sandy\, UT\, 84070\, United States
END:VEVENT
END:VCALENDAR