BEGIN:VCALENDAR
VERSION:2.0
PRODID:-//Rise Leadership - ECPv6.15.15//NONSGML v1.0//EN
CALSCALE:GREGORIAN
METHOD:PUBLISH
X-WR-CALNAME:Rise Leadership
X-ORIGINAL-URL:https://riselg.com
X-WR-CALDESC:Events for Rise Leadership
REFRESH-INTERVAL;VALUE=DURATION:PT1H
X-Robots-Tag:noindex
X-PUBLISHED-TTL:PT1H
BEGIN:VTIMEZONE
TZID:America/Denver
BEGIN:DAYLIGHT
TZOFFSETFROM:-0700
TZOFFSETTO:-0600
TZNAME:MDT
DTSTART:20240310T090000
END:DAYLIGHT
BEGIN:STANDARD
TZOFFSETFROM:-0600
TZOFFSETTO:-0700
TZNAME:MST
DTSTART:20241103T080000
END:STANDARD
BEGIN:DAYLIGHT
TZOFFSETFROM:-0700
TZOFFSETTO:-0600
TZNAME:MDT
DTSTART:20250309T090000
END:DAYLIGHT
BEGIN:STANDARD
TZOFFSETFROM:-0600
TZOFFSETTO:-0700
TZNAME:MST
DTSTART:20251102T080000
END:STANDARD
BEGIN:DAYLIGHT
TZOFFSETFROM:-0700
TZOFFSETTO:-0600
TZNAME:MDT
DTSTART:20260308T090000
END:DAYLIGHT
BEGIN:STANDARD
TZOFFSETFROM:-0600
TZOFFSETTO:-0700
TZNAME:MST
DTSTART:20261101T080000
END:STANDARD
END:VTIMEZONE
BEGIN:VEVENT
DTSTART;TZID=America/Denver:20251022T183000
DTEND;TZID=America/Denver:20251026T223000
DTSTAMP:20260424T004108
CREATED:20220915T074634Z
LAST-MODIFIED:20250911T042842Z
UID:244218-1761157800-1761517800@riselg.com
SUMMARY:Breakthrough Retreat @ Lava Hot Springs
DESCRIPTION:•This Breakthrough Process has healed thousands of people & families and empowered leaders to create miracles. It helped Mark Hughes to create Herbalife. It empowered Ron McMillan & Joseph Grenny who brought 12 million people out of poverty thru micro loans. It saved Burt Bunell’s company that today saves hundreds of premature babies lives every year.\n•Your first Breakthrough cost thousands. Another Breakthrough at Lava costs 10 x less and is often more powerful!\n• Consider being able to trade Breakthroughs with peers for the rest of your life – for FREE! What incredible value it is to facilitate a Breakthrough and disappear into the act.\n• Consider the power of the Rage Process and how releasing core level negatives must be filled with positive blessings! \n• Lava is where I give the “Fundamental Dominoes” – the ‘Old Ways’ and New Skills that can most powerfully knock many other old way dominoes down.\n• It’s the highest space; the most fun of any course. We get blissed out of our minds\, go to Tai Food\, go to the Hot Springs\, go to the Rock and Roll Bar… (See the Flier and Insert.)  \nIf you’ve done it – it’s also a fun place to assist to be a part of the magic!\nCall me to find out what YOU specifically would get out of it or for special offers or email me to gary@riselg.com.\nLuvs\, Gary\nOPTIONAL: \n• Larger Vision: You are my Legacy – THE Question of my life will be how many seeds did I plant\, and which seeds will bear the best fruit. When I die I want to know that you will be leading your seminars\, your retreats\, your corporate trainings\, leading the Awakening. That you took my gift and are being my partner in bring Heaven to Earth. Lava is the best place to get those tools.\n\n\n\n\n\n\nAwakening Grad Breakthru Retreat $997\n\n\n\n\n					$997.00\n				\n\n\n\n\n	\n	\n		\n\n\n        \n                    \n\n            Name *\n            \n                \n            \n\n            Attendee Full Name\n            \n        \n                        \n                \n\n            Phone *\n            \n                \n\n            \n\n            Attendee Phone Number\n            \n        \n                        \n                \n\n            Email *\n            \n                            \n\n            Attendee Email\n            \n        \n        \n\n\n\n        \n                    \n\n            Name *\n            \n                \n            \n\n            Full Name\n            \n        \n                        \n                \n\n            Phone *\n            \n                \n\n            \n\n            Phone Number\n            \n        \n                        \n                \n\n            Email *\n            \n                            \n\n            Customer Email\n            \n        \n        \n\n    \n        \n            Product total\n            \n        \n        \n            Options total\n            \n        \n        \n            Grand total\n            \n        \n    \n\n      \n        \n          \n            \n              \n              Pay Deposit\n            \n            \n              Pay a deposit of                $250.00              per item\n            \n          \n          \n            \n            Pay full amount\n          \n        \n      \n      \n		\n		Awakening Grad Breakthru Retreat $997 quantity\n	\n	\n\n		Add to cart\n\n			\n\n	\n\n\n\n\n\n				SKU:\n				LAVA1ELM\n				\n			\n\nCategory: TICKET
URL:https://riselg.com/event/breakthrough-retreat-lava-hot-springs/
LOCATION:UT
ATTACH;FMTTYPE=image/jpeg:https://riselg.com/wp-content/uploads/2022/05/RISE-Leadership1-scaled.jpg
END:VEVENT
END:VCALENDAR