BEGIN:VCALENDAR
VERSION:2.0
PRODID:-//Rise Leadership - ECPv6.15.15//NONSGML v1.0//EN
CALSCALE:GREGORIAN
METHOD:PUBLISH
X-ORIGINAL-URL:https://riselg.com
X-WR-CALDESC:Events for Rise Leadership
REFRESH-INTERVAL;VALUE=DURATION:PT1H
X-Robots-Tag:noindex
X-PUBLISHED-TTL:PT1H
BEGIN:VTIMEZONE
TZID:America/Denver
BEGIN:DAYLIGHT
TZOFFSETFROM:-0700
TZOFFSETTO:-0600
TZNAME:MDT
DTSTART:20240310T090000
END:DAYLIGHT
BEGIN:STANDARD
TZOFFSETFROM:-0600
TZOFFSETTO:-0700
TZNAME:MST
DTSTART:20241103T080000
END:STANDARD
BEGIN:DAYLIGHT
TZOFFSETFROM:-0700
TZOFFSETTO:-0600
TZNAME:MDT
DTSTART:20250309T090000
END:DAYLIGHT
BEGIN:STANDARD
TZOFFSETFROM:-0600
TZOFFSETTO:-0700
TZNAME:MST
DTSTART:20251102T080000
END:STANDARD
BEGIN:DAYLIGHT
TZOFFSETFROM:-0700
TZOFFSETTO:-0600
TZNAME:MDT
DTSTART:20260308T090000
END:DAYLIGHT
BEGIN:STANDARD
TZOFFSETFROM:-0600
TZOFFSETTO:-0700
TZNAME:MST
DTSTART:20261101T080000
END:STANDARD
END:VTIMEZONE
BEGIN:VEVENT
DTSTART;TZID=America/Denver:20250716T181500
DTEND;TZID=America/Denver:20250719T200000
DTSTAMP:20260424T065517
CREATED:20220530T101104Z
LAST-MODIFIED:20250623T122215Z
UID:243956-1752689700-1752955200@riselg.com
SUMMARY:Magical Realms
DESCRIPTION: “The Magical Realms of the Sacred Self”\nCreating Peak Experiences – for Peak Performance \nProgram: \nWeds. July 16 6:15 p.m. – 10:30 p.m. (FREE GUEST EVENT)Thurs. July 17 6:30 p.m. – 10:30 p.m.Fri. July 18 1:00 p.m. – 8:00 p.m.Sat. July 19 9:30 a.m. – 8:00 p.m.  \nCost:$247 Per PersonSPECIAL OFFER for NEW People: $147 / Use code: INTRO147$297 Per Couple$347 Larger Group 3 or more people – Contact Gary for Group Code to register your other group participants. (They will register with Single Admission Ticket and use the code)$97 Reviewer or Movement to Mastery Grad Price. Contact Gary for Code \n \n\nThe 4 Steps to Travel Your Soul and access the highest states of being available. \nBecome a radio receiver for Spirit – by being in “the zone\,” receive information\, insights\, & guidance needed to “travel your soul” and walk your path successfully. \nCreating your “Peak Experiences” don’t just wait for them to happen – create them. \nVoice of the Angels: Experience a moving and profound eye-opening process of hearing the validation the deepest part of you as always longed for. \nLearning the true meaning of “Being Yourself” – the more you land in your true self\, you flow\, the more your concept of self-expands\, and you recognize the gift you are. \nStart with LOVE & use PLAY as a vehicle for higher states of being. \nWhen Spirit Speaks Through You: What speaks through you will move mountains. \nBecome a Voice for the Sacred: Show up\, shine and be the gift you came to be. \nThe Greatest Key to Influence: Real leverage with loved ones by speaking to that which is beyond their shortcomings; speak to their highest nobility. \nBeing more “Christ-like” – Step into your own highest nobility \n\n 
URL:https://riselg.com/event/magical-realms/
LOCATION:Rise Leadership Group\, 9192 S 300 W Suite 10\, Sandy\, UT\, 84070\, United States
ATTACH;FMTTYPE=image/jpeg:https://riselg.com/wp-content/uploads/2022/05/RISE-Leadership3.jpg
ORGANIZER;CN="Rise Leadership Group":MAILTO:gary@riselg.com
END:VEVENT
END:VCALENDAR