BEGIN:VCALENDAR
VERSION:2.0
PRODID:-//Rise Leadership - ECPv6.15.15//NONSGML v1.0//EN
CALSCALE:GREGORIAN
METHOD:PUBLISH
X-WR-CALNAME:Rise Leadership
X-ORIGINAL-URL:https://riselg.com
X-WR-CALDESC:Events for Rise Leadership
REFRESH-INTERVAL;VALUE=DURATION:PT1H
X-Robots-Tag:noindex
X-PUBLISHED-TTL:PT1H
BEGIN:VTIMEZONE
TZID:America/Denver
BEGIN:DAYLIGHT
TZOFFSETFROM:-0700
TZOFFSETTO:-0600
TZNAME:MDT
DTSTART:20240310T090000
END:DAYLIGHT
BEGIN:STANDARD
TZOFFSETFROM:-0600
TZOFFSETTO:-0700
TZNAME:MST
DTSTART:20241103T080000
END:STANDARD
BEGIN:DAYLIGHT
TZOFFSETFROM:-0700
TZOFFSETTO:-0600
TZNAME:MDT
DTSTART:20250309T090000
END:DAYLIGHT
BEGIN:STANDARD
TZOFFSETFROM:-0600
TZOFFSETTO:-0700
TZNAME:MST
DTSTART:20251102T080000
END:STANDARD
BEGIN:DAYLIGHT
TZOFFSETFROM:-0700
TZOFFSETTO:-0600
TZNAME:MDT
DTSTART:20260308T090000
END:DAYLIGHT
BEGIN:STANDARD
TZOFFSETFROM:-0600
TZOFFSETTO:-0700
TZNAME:MST
DTSTART:20261101T080000
END:STANDARD
END:VTIMEZONE
BEGIN:VEVENT
DTSTART;TZID=America/Denver:20250514T181500
DTEND;TZID=America/Denver:20250518T191500
DTSTAMP:20260424T104047
CREATED:20230424T070332Z
LAST-MODIFIED:20250409T144914Z
UID:244629-1747246500-1747595700@riselg.com
SUMMARY:Spirit of the Awakened Warrior
DESCRIPTION:Living the Dream with Courage\, Compassion and Personal Magic\n\nAdvanced Acceleration through Courage\, Self-Compassion\, and a Higher View\nINCLUDED IN THIS CLASS\nRopes Course\nThe Adventure Beyond Fear\nThere is one thing that stops us from attaining our dreams – fear. It is what all upsets; problems\, barriers\, dysfunctional patterns and alienating behaviors have in common. Fear is the fundamental barrier. At every stage of success\, creating a new relationship to your own fear attains higher ground. People have a fear “thermostat\,” which measures their current relationship to fear. As the fear decreases\, success in love\, career and other areas increases. This one-day program is designed to be one of the most effective innovations for anchoring in a new level of mastery over your fears. This is guaranteed to be one of the most profound\, moving and inspiring days of your life – a day you will remember for the rest of your life.\nFire Walk\nThe Experience Of No Limits\nYour beliefs define what is possible for you. In this “unbelievable” experience\, you are presented with the opportunity to walk barefoot across a bed of burning coals. Does that challenge your beliefs? Great! Accepting responsibility for “choice” is fundamental to living an empowered life and “choice” is the watch word at The Firewalk. This amazing opportunity has the power to shift how you face the “unbelievable” for the rest of your life! If you can cross fire barefoot\, what else can you do in your life? What can you make of your life? What can you transcend? What can you accomplish? This one evening has the power to change your life forever! The Firewalk is considered one of the most effective experiences for anchoring in a new relationship with fear. Coupled with the rest of the Outdoor Program\, this one day is an extraordinary experience you will never forget!\nConnected Breath\nUnprecedented Love\nOne of the true breakthroughs of our time\, this simple gentle non-threatening method is designed to release any unwanted unfinished business by reprogramming old tapes\, facilitating new revelations\, bringing about new decisions. It is a profound and unprecedented experience of unconditional love. In conjunction with the ropes\, firewalk and other powerful processes\, it’s impact is even more powerful.\nThe Joy of Failure: The Great Key to Success\nThis is a course on how to effectively deal with the negatives of your life in order to accelerate your growth and success. Success is NOT a function of how you respond when things are going well…success is a function of how your respond to failure! How do you most effectively fail forward? How do you respond when you’re terrified\, or fall on your face\, when you know what you “could” do\, and notice yourself not doing it. What do you do when your “fight or flight mind” criticizes you viciously\, won’t leave you alone\, and the circumstances seem to get worse by the minute?\nThe Power of Infinite Progression: Why is there pain?\nA New Paradigm: The Creation of the Physical Universe\nWhy is there pain? Why is the physical universe designed for so much pain\, anguish and suffering? There is an answer. . . one of profound significance. This process holds the answer and contains the power to dramatically transform one’s perception of reality. It is a profoundly moving experience of infinite progression. A paradigm shift is available in this process that totally alters the way participants view the pain and battles of daily living. Awakening grads will also understand the necessity of experiencing certain processes only after the group has achieved a very high state of being. Only after being lifted to unprecedented heights – which Awakening grads can create – will this process be presented and have the full scope of its influence realized.\nFor generation after generation mankind has sought to live on higher ground\, placing one brick on top of another\, until this magical time when some of us don’t need to worry about where the next meal will come from. Beyond survival is this magical time when we can focus on consciousness. Profound experiences can be available not only to the rare and few\, but to all. We are in the middle of the biggest transformation of all time for the planet. It is a breakdown and breakthrough of unimaginable proportions and we are just riding the crest of the wave that is now upon us.
URL:https://riselg.com/event/spirit-of-the-awakened-warrior/
LOCATION:Rise Leadership Group – 9192 South 300 West Suite #10\, 9192 S 300 W Suite 10\, Sandy\, UT\, 84070\, United States
ATTACH;FMTTYPE=image/jpeg:https://riselg.com/wp-content/uploads/2023/04/Firwalk.jpg
END:VEVENT
END:VCALENDAR